Workbook
Name InstTypen: [1]_Listen!$C$1:$C$3
Name InstTypen: _Listen!$C$1:$C$3
Name Laender: [1]_Listen!$A$1:$A$263
Name Laender: _Listen!$A$1:$A$263
Name Waehrungen: [1]_Listen!$B$1:$B$178
Name Waehrungen: _Listen!$B$1:$B$178

Sheet Meldeformular
A5: Dichiarazione secondo l'articolo 21 capoverso 1 dell'ordinanza che istituisce provvedimenti nei confronti della Repubblica Islamica dell'Iran (RS 946.231.143.6)
A7: DICHIARAZIONE
A9: 1. Tipo di trasferimento
B10: Esecuzione di un trasferimento di averi il cui beneficiario è una persona o un'organizzazione iraniana
B11: Ricezione di un trasferimento di averi il cui ordinante è una persona o un'organizzazione iraniana
A13: 2. Autore della dichiarazione
B14: Intermediario finanziario dell'ordinante del trasferimento di averi
B15: Intermediario finanziario del beneficiaro del trasferimento di averi
B16: Ordinante o beneficiario del pagamento, se l'intermediario finanziario si trova fuori dalla Svizzera
A18: 3. Intermediario finanziario
A19: Cognome o ditta
A20: Nome o filiale
A21: Via e numero civico o casella postale
A22: NPA e località
A23: Paese
A24: Persona di contatto
A25: Telefono
A26: E-Mail
A28: 4. Ordinante del traferimento di averi
A29: Persona o organizzazione iraniana secondo l'articolo 1 lettera f dell'ordinanza | G29: Sì | H29: No
A30: Cognome o ditta
A31: Nome o filiale
A32: Via e numero civico o casella postale
A33: NPA e località
A34: Paese
A35: Persona di contatto
A36: Telefono
A37: E-Mail
A38: Istituto finanziario
A39: Titolare del conto
A40: IBAN / numero di conto
A42: 5. Beneficiario del trasferimento di averi
A43: Persona o organizzazione iraniana secondo l'articolo 1 lettera f dell'ordinanza | G43: Sì | H43: No
A44: Cognome o ditta
A45: Nome o filiale
A46: Via e numero civico o casella postale
A47: NPA e località
A48: Paese
A49: Persona di contatto
A50: Telefono
...

Sheet _Listen
A1: Afghanistan | B1: AED | C1: Bank | D1: Afghanistan | E1: Afghanistan | F1: AF | G1: Banque | H1: Banca
A2: Albanien | B2: AFN | C2: anderer Finanzintermediär | D2: Albanie | E2: Albania | F2: AL | G2: autre intermédiaire financier | H2: altro intermediario finanziario
A3: Algerien | B3: ALL | C3: Unternehmen | D3: Algérie | E3: Algeria | F3: DZ | G3: Entreprise | H3: Impresa
A4: Amerikanisch-Samoa | B4: AMD | D4: Samoa américaines | E4: Samoa Americane | F4: AS
A5: Amerikanische Jungferninseln | B5: AOA | D5: Îles Vierges des États-Unis | E5: Isole Vergini Americane | F5: VI
A6: Amerikanische Überseeinseln | B6: ARS | D6: Îles mineures éloignées des États-Unis | E6: Isole Minori Esterne degli Stati Uniti | F6: UM
A7: Andorra | B7: AUD | D7: Andorre | E7: Andorra | F7: AD
A8: Angola | B8: AWG | D8: Angola | E8: Angola | F8: AO
A9: Anguilla | B9: AZN | D9: Anguilla | E9: Anguilla | F9: AI
A10: Antarktis | B10: BAM | D10: Antarctique | E10: Antartide | F10: AQ
A11: Antigua und Barbuda | B11: BBD | D11: Antigua-et-Barbuda | E11: Antigua e Barbuda | F11: AG
A12: Argentinien | B12: BDT | D12: Argentine | E12: Argentina | F12: AR
A13: Armenien | B13: BHD | D13: Arménie | E13: Armenia | F13: AM
A14: Aruba | B14: BIF | D14: Aruba | E14: Aruba | F14: AW
A15: Ascension | B15: BMD | D15: Île de l’Ascension | E15: Isola Ascensione | F15: AC
... A178: Republik Moldau | B178: ZWG | D178: Moldavie | E178: Moldavia | F178: MD
A179: Ruanda | D179: Rwanda | E179: Ruanda | F179: RW
A180: Rumänien | D180: Roumanie | E180: Romania | F180: RO
A181: Russland | D181: Russie | E181: Russia | F181: RU
A182: Réunion | D182: La Réunion | E182: Riunione | F182: RE
A183: Salomonen | D183: Îles Salomon | E183: Isole Salomone | F183: SB
A184: Sambia | D184: Zambie | E184: Zambia | F184: ZM
A185: Samoa | D185: Samoa | E185: Samoa | F185: WS
A186: San Marino | D186: Saint-Marin | E186: San Marino | F186: SM
A187: Saudi-Arabien | D187: Arabie saoudite | E187: Arabia Saudita | F187: SA
A188: Schweden | D188: Suède | E188: Svezia | F188: SE
A189: Schweiz | D189: Suisse | E189: Svizzera | F189: CH
A190: Senegal | D190: Sénégal | E190: Senegal | F190: SN
... A261: Österreich | D261: Autriche | E261: Austria | F261: AT

Sheet Daten
A1: formular_typ | B1: sprache | C1: zahlungsrichtung_ausfuehrung | D1: zahlungsrichtung_entgegennahme | E1: antragsteller_fi_auftraggeber | F1: antragsteller_fi_beguenstigter | G1: antragsteller_auftraggeber_zahl | H1: finint_name | I1: finint_vorname_filiale | J1: finint_land_iso | K1: finint_kontaktperson | L1: auftr_iranisch | M1: auftr_name | N1: auftr_vorname_filiale | O1: auftr_land_iso | P1: auftr_kontaktperson | Q1: auftr_finanzinstitut | R1: auftr_kontoinhaber | S1: beg_iranisch | T1: beg_name | U1: beg_vorname_filiale | V1: beg_land_iso | W1: beg_kontaktperson | X1: beg_finanzinstitut | Y1: beg_kontoinhaber | Z1: transfer_datum | AA1: transfer_betrag | AB1: transfer_waehrung | AC1: transfer_chf | AD1: schritt1_name | AE1: schritt1_land_iso | AF1: schritt1_typ | AG1: schritt1_rolle | AH1: schritt2_name | AI1: schritt2_land_iso | AJ1: schritt2_typ | AK1: schritt2_rolle | AL1: schritt3_name | AM1: schritt3_land_iso | AN1: schritt3_typ | AO1: schritt3_rolle | AP1: schritt4_name | AQ1: schritt4_land_iso | AR1: schritt4_typ | AS1: schritt4_rolle | AT1: schritt5_name | AU1: schritt5_land_iso | AV1: schritt5_typ | AW1: schritt5_rolle | AX1: schritt6_name | AY1: schritt6_land_iso | AZ1: schritt6_typ | BA1: schritt6_rolle | BB1: schritt7_name | BC1: schritt7_land_iso | BD1: schritt7_typ | BE1: schritt7_rolle | BF1: schritte_zusatz | BG1: ware_beschreibung | BH1: ware_wert | BI1: ware_waehrung | BJ1: zolltarifnummer | BK1: grundgeschaeft_beschreibung | BL1: grundgeschaeft_bewpflichtig | BM1: grundgeschaeft_bew_erteilt | BN1: gelistete_keine | BO1: gelistete_ja | BP1: gelistete_welche
A2: "Meldung" | B2: "IT" | C2: FALSE | D2: FALSE | E2: FALSE | F2: FALSE | G2: FALSE | H2: =Meldeformular!D19 -> 0 | I2: =Meldeformular!D20 -> 0 | J2: =IFERROR(INDEX(_Listen!$F$1:$F$261,MATCH(Meldeformular!D23,_Listen!$A$1:$A$261,0)),IFERROR(INDEX(_Listen!$F$1:$F$261,MATCH(Meldeformular!D23,_Listen!$D$1:$D$261,0)),IFERROR(INDEX(_Listen!$F$1:$F$261,MATCH(Meldeformular!D23,_Listen!$E$1:$E$261,0)),""))) | K2: =Meldeformular!D24 -> 0 | L2: FALSE | M2: =Meldeformular!D30 -> 0 | N2: =Meldeformular!D31 -> 0 | O2: =IFERROR(INDEX(_Listen!$F$1:$F$261,MATCH(Meldeformular!D34,_Listen!$A$1:$A$261,0)),IFERROR(INDEX(_Listen!$F$1:$F$261,MATCH(Meldeformular!D34,_Listen!$D$1:$D$261,0)),IFERROR(INDEX(_Listen!$F$1:$F$261,MATCH(Meldeformular!D34,_Listen!$E$1:$E$261,0)),""))) | P2: =Meldeformular!D35 -> 0 | Q2: =Meldeformular!D38 -> 0 | R2: =Meldeformular!D39 -> 0 | S2: FALSE | T2: =Meldeformular!D44 -> 0 | U2: =Meldeformular!D45 -> 0 | V2: =IFERROR(INDEX(_Listen!$F$1:$F$261,MATCH(Meldeformular!D48,_Listen!$A$1:$A$261,0)),IFERROR(INDEX(_Listen!$F$1:$F$261,MATCH(Meldeformular!D48,_Listen!$D$1:$D$261,0)),IFERROR(INDEX(_Listen!$F$1:$F$261,MATCH(Meldeformular!D48,_Listen!$E$1:$E$261,0)),""))) | W2: =Meldeformular!D49 -> 0 | X2: =Meldeformular!D52 -> 0 | Y2: =Meldeformular!D53 -> 0 | Z2: =Meldeformular!D57 -> 0 | AA2: =Meldeformular!D58 -> 0 | AB2: =Meldeformular!G58 -> 0 | AC2: =Meldeformular!D59 -> 0 | AD2: =Meldeformular!B62 -> 0 | AE2: =IFERROR(INDEX(_Listen!$F$1:$F$261,MATCH(Meldeformular!D62,_Listen!$A$1:$A$261,0)),IFERROR(INDEX(_Listen!$F$1:$F$261,MATCH(Meldeformular!D62,_Listen!$D$1:$D$261,0)),IFERROR(INDEX(_Listen!$F$1:$F$261,MATCH(Meldeformular!D62,_Listen!$E$1:$E$261,0)),""))) | AF2: =IFERROR(INDEX(_Listen!$C$1:$C$3,MATCH(Meldeformular!F62,_Listen!$C$1:$C$3,0)),IFERROR(INDEX(_Listen!$C$1:$C$3,MATCH(Meldeformular!F62,_Listen!$G$1:$G$3,0)),IFERROR(INDEX(_Listen!$C$1:$C$3,MATCH(Meldeformular!F62,_Listen!$H$1:$H$3,0)),""))) | AG2: =Meldeformular!G62 -> 0 | AH2: =Meldeformular!B63 -> 0 | AI2: =IFERROR(INDEX(_Listen!$F$1:$F$261,MATCH(Meldeformular!D63,_Listen!$A$1:$A$261,0)),IFERROR(INDEX(_Listen!$F$1:$F$261,MATCH(Meldeformular!D63,_Listen!$D$1:$D$261,0)),IFERROR(INDEX(_Listen!$F$1:$F$261,MATCH(Meldeformular!D63,_Listen!$E$1:$E$261,0)),""))) | AJ2: =IFERROR(INDEX(_Listen!$C$1:$C$3,MATCH(Meldeformular!F63,_Listen!$C$1:$C$3,0)),IFERROR(INDEX(_Listen!$C$1:$C$3,MATCH(Meldeformular!F63,_Listen!$G$1:$G$3,0)),IFERROR(INDEX(_Listen!$C$1:$C$3,MATCH(Meldeformular!F63,_Listen!$H$1:$H$3,0)),""))) | AK2: =Meldeformular!G63 -> 0 | AL2: =Meldeformular!B64 -> 0 | AM2: =IFERROR(INDEX(_Listen!$F$1:$F$261,MATCH(Meldeformular!D64,_Listen!$A$1:$A$261,0)),IFERROR(INDEX(_Listen!$F$1:$F$261,MATCH(Meldeformular!D64,_Listen!$D$1:$D$261,0)),IFERROR(INDEX(_Listen!$F$1:$F$261,MATCH(Meldeformular!D64,_Listen!$E$1:$E$261,0)),""))) | AN2: =IFERROR(INDEX(_Listen!$C$1:$C$3,MATCH(Meldeformular!F64,_Listen!$C$1:$C$3,0)),IFERROR(INDEX(_Listen!$C$1:$C$3,MATCH(Meldeformular!F64,_Listen!$G$1:$G$3,0)),IFERROR(INDEX(_Listen!$C$1:$C$3,MATCH(Meldeformular!F64,_Listen!$H$1:$H$3,0)),""))) | AO2: =Meldeformular!G64 -> 0 | AP2: =Meldeformular!B65 -> 0 | AQ2: =IFERROR(INDEX(_Listen!$F$1:$F$261,MATCH(Meldeformular!D65,_Listen!$A$1:$A$261,0)),IFERROR(INDEX(_Listen!$F$1:$F$261,MATCH(Meldeformular!D65,_Listen!$D$1:$D$261,0)),IFERROR(INDEX(_Listen!$F$1:$F$261,MATCH(Meldeformular!D65,_Listen!$E$1:$E$261,0)),""))) | AR2: =IFERROR(INDEX(_Listen!$C$1:$C$3,MATCH(Meldeformular!F65,_Listen!$C$1:$C$3,0)),IFERROR(INDEX(_Listen!$C$1:$C$3,MATCH(Meldeformular!F65,_Listen!$G$1:$G$3,0)),IFERROR(INDEX(_Listen!$C$1:$C$3,MATCH(Meldeformular!F65,_Listen!$H$1:$H$3,0)),""))) | AS2: =Meldeformular!G65 -> 0 | AT2: =Meldeformular!B66 -> 0 | AU2: =IFERROR(INDEX(_Listen!$F$1:$F$261,MATCH(Meldeformular!D66,_Listen!$A$1:$A$261,0)),IFERROR(INDEX(_Listen!$F$1:$F$261,MATCH(Meldeformular!D66,_Listen!$D$1:$D$261,0)),IFERROR(INDEX(_Listen!$F$1:$F$261,MATCH(Meldeformular!D66,_Listen!$E$1:$E$261,0)),""))) | AV2: =IFERROR(INDEX(_Listen!$C$1:$C$3,MATCH(Meldeformular!F66,_Listen!$C$1:$C$3,0)),IFERROR(INDEX(_Listen!$C$1:$C$3,MATCH(Meldeformular!F66,_Listen!$G$1:$G$3,0)),IFERROR(INDEX(_Listen!$C$1:$C$3,MATCH(Meldeformular!F66,_Listen!$H$1:$H$3,0)),""))) | AW2: =Meldeformular!G66 -> 0 | AX2: =Meldeformular!B67 -> 0 | AY2: =IFERROR(INDEX(_Listen!$F$1:$F$261,MATCH(Meldeformular!D67,_Listen!$A$1:$A$261,0)),IFERROR(INDEX(_Listen!$F$1:$F$261,MATCH(Meldeformular!D67,_Listen!$D$1:$D$261,0)),IFERROR(INDEX(_Listen!$F$1:$F$261,MATCH(Meldeformular!D67,_Listen!$E$1:$E$261,0)),""))) | AZ2: =IFERROR(INDEX(_Listen!$C$1:$C$3,MATCH(Meldeformular!F67,_Listen!$C$1:$C$3,0)),IFERROR(INDEX(_Listen!$C$1:$C$3,MATCH(Meldeformular!F67,_Listen!$G$1:$G$3,0)),IFERROR(INDEX(_Listen!$C$1:$C$3,MATCH(Meldeformular!F67,_Listen!$H$1:$H$3,0)),""))) | BA2: =Meldeformular!G67 -> 0 | BB2: =Meldeformular!B68 -> 0 | BC2: =IFERROR(INDEX(_Listen!$F$1:$F$261,MATCH(Meldeformular!D68,_Listen!$A$1:$A$261,0)),IFERROR(INDEX(_Listen!$F$1:$F$261,MATCH(Meldeformular!D68,_Listen!$D$1:$D$261,0)),IFERROR(INDEX(_Listen!$F$1:$F$261,MATCH(Meldeformular!D68,_Listen!$E$1:$E$261,0)),""))) | BD2: =IFERROR(INDEX(_Listen!$C$1:$C$3,MATCH(Meldeformular!F68,_Listen!$C$1:$C$3,0)),IFERROR(INDEX(_Listen!$C$1:$C$3,MATCH(Meldeformular!F68,_Listen!$G$1:$G$3,0)),IFERROR(INDEX(_Listen!$C$1:$C$3,MATCH(Meldeformular!F68,_Listen!$H$1:$H$3,0)),""))) | BE2: =Meldeformular!G68 -> 0 | BF2: =Meldeformular!A69 -> Spazio per ulteriori fasi nel trasferimento di averi (se più di 7) | BG2: =Meldeformular!D72 -> 0 | BH2: =Meldeformular!D73 -> 0 | BI2: =Meldeformular!G73 -> 0 | BJ2: =Meldeformular!D74 -> 0 | BK2: =Meldeformular!D75 -> 0 | BL2: FALSE | BM2: FALSE | BN2: FALSE | BO2: FALSE | BP2: =Meldeformular!A83 -> 0
